BEGIN:VCALENDAR
VERSION:2.0
PRODID:-//Wein &amp; Käse - ECPv6.15.20//NONSGML v1.0//EN
CALSCALE:GREGORIAN
METHOD:PUBLISH
X-ORIGINAL-URL:https://www.wein-kaese-marburg.de
X-WR-CALDESC:Veranstaltungen für Wein &amp; Käse
REFRESH-INTERVAL;VALUE=DURATION:PT1H
X-Robots-Tag:noindex
X-PUBLISHED-TTL:PT1H
BEGIN:VTIMEZONE
TZID:Europe/Berlin
BEGIN:DAYLIGHT
TZOFFSETFROM:+0100
TZOFFSETTO:+0200
TZNAME:CEST
DTSTART:20240331T010000
END:DAYLIGHT
BEGIN:STANDARD
TZOFFSETFROM:+0200
TZOFFSETTO:+0100
TZNAME:CET
DTSTART:20241027T010000
END:STANDARD
BEGIN:DAYLIGHT
TZOFFSETFROM:+0100
TZOFFSETTO:+0200
TZNAME:CEST
DTSTART:20250330T010000
END:DAYLIGHT
BEGIN:STANDARD
TZOFFSETFROM:+0200
TZOFFSETTO:+0100
TZNAME:CET
DTSTART:20251026T010000
END:STANDARD
BEGIN:DAYLIGHT
TZOFFSETFROM:+0100
TZOFFSETTO:+0200
TZNAME:CEST
DTSTART:20260329T010000
END:DAYLIGHT
BEGIN:STANDARD
TZOFFSETFROM:+0200
TZOFFSETTO:+0100
TZNAME:CET
DTSTART:20261025T010000
END:STANDARD
BEGIN:DAYLIGHT
TZOFFSETFROM:+0100
TZOFFSETTO:+0200
TZNAME:CEST
DTSTART:20270328T010000
END:DAYLIGHT
BEGIN:STANDARD
TZOFFSETFROM:+0200
TZOFFSETTO:+0100
TZNAME:CET
DTSTART:20271031T010000
END:STANDARD
END:VTIMEZONE
BEGIN:VEVENT
DTSTART;TZID=Europe/Berlin:20260417T193000
DTEND;TZID=Europe/Berlin:20260417T193000
DTSTAMP:20260419T170359
CREATED:20260128T105305Z
LAST-MODIFIED:20260328T123603Z
UID:1693-1776454200-1776454200@www.wein-kaese-marburg.de
SUMMARY:Weinprobe\, Weine aus Spanien
DESCRIPTION:
URL:https://www.wein-kaese-marburg.de/veranstaltung/weinprobe-weine-aus-spanien-11
LOCATION:Untergasse 3\, 35037 Marburg\, Untergasse 3\, Marburg\, Hessen\, 35037
ORGANIZER;CN="Robert Sabo":MAILTO:info@wein-kaese-marburg.de
END:VEVENT
BEGIN:VEVENT
DTSTART;TZID=Europe/Berlin:20260327T193000
DTEND;TZID=Europe/Berlin:20260327T193000
DTSTAMP:20260419T170359
CREATED:20260112T133529Z
LAST-MODIFIED:20260128T105021Z
UID:1688-1774639800-1774639800@www.wein-kaese-marburg.de
SUMMARY:Weinprobe\, Weine aus Spanien (ausverkauft)
DESCRIPTION:Ausverkauft
URL:https://www.wein-kaese-marburg.de/veranstaltung/weinprobe-weine-aus-spanien-10
LOCATION:Untergasse 3\, 35037 Marburg\, Untergasse 3\, Marburg\, Hessen\, 35037
ORGANIZER;CN="Robert Sabo":MAILTO:info@wein-kaese-marburg.de
END:VEVENT
BEGIN:VEVENT
DTSTART;TZID=Europe/Berlin:20260313T193000
DTEND;TZID=Europe/Berlin:20260313T193000
DTSTAMP:20260419T170359
CREATED:20251231T113132Z
LAST-MODIFIED:20260202T142424Z
UID:1683-1773430200-1773430200@www.wein-kaese-marburg.de
SUMMARY:Weinprobe\, Weine aus Italien (ausverkauft)
DESCRIPTION:
URL:https://www.wein-kaese-marburg.de/veranstaltung/weinprobe-weine-aus-italien-wein-kaese
LOCATION:Untergasse 3\, 35037 Marburg\, Untergasse 3\, Marburg\, Hessen\, 35037
ORGANIZER;CN="Robert Sabo":MAILTO:info@wein-kaese-marburg.de
END:VEVENT
BEGIN:VEVENT
DTSTART;TZID=Europe/Berlin:20260227T193000
DTEND;TZID=Europe/Berlin:20260227T193000
DTSTAMP:20260419T170359
CREATED:20251215T145853Z
LAST-MODIFIED:20251231T112836Z
UID:1678-1772220600-1772220600@www.wein-kaese-marburg.de
SUMMARY:Weinprobe\, Weine aus Portugal (ausverkauft)
DESCRIPTION:
URL:https://www.wein-kaese-marburg.de/veranstaltung/weinprobe-weine-aus-portugal-6
LOCATION:Untergasse 3\, 35037 Marburg\, Untergasse 3\, Marburg\, Hessen\, 35037
ORGANIZER;CN="Robert Sabo":MAILTO:info@wein-kaese-marburg.de
END:VEVENT
BEGIN:VEVENT
DTSTART;TZID=Europe/Berlin:20260220T193000
DTEND;TZID=Europe/Berlin:20260220T193000
DTSTAMP:20260419T170359
CREATED:20251215T145720Z
LAST-MODIFIED:20260112T133645Z
UID:1676-1771615800-1771615800@www.wein-kaese-marburg.de
SUMMARY:Weinprobe\, Weine aus Deutschland und Österreich (ausverkauft)
DESCRIPTION:
URL:https://www.wein-kaese-marburg.de/veranstaltung/weinprobe-weine-aus-deutschland-und-oesterreich-2
LOCATION:Untergasse 3\, 35037 Marburg\, Untergasse 3\, Marburg\, Hessen\, 35037
ORGANIZER;CN="Robert Sabo":MAILTO:info@wein-kaese-marburg.de
END:VEVENT
BEGIN:VEVENT
DTSTART;TZID=Europe/Berlin:20260213T193000
DTEND;TZID=Europe/Berlin:20260213T193000
DTSTAMP:20260419T170359
CREATED:20251025T155817Z
LAST-MODIFIED:20251215T125359Z
UID:1656-1771011000-1771011000@www.wein-kaese-marburg.de
SUMMARY:Barista - Seminar 2026 - Ausverkauft
DESCRIPTION:Ausverkauft
URL:https://www.wein-kaese-marburg.de/veranstaltung/barista-seminar-2026
LOCATION:Untergasse 3\, 35037 Marburg\, Untergasse 3\, Marburg\, Hessen\, 35037
ORGANIZER;CN="Robert Sabo":MAILTO:info@wein-kaese-marburg.de
END:VEVENT
BEGIN:VEVENT
DTSTART;TZID=Europe/Berlin:20260129T190000
DTEND;TZID=Europe/Berlin:20260129T190000
DTSTAMP:20260419T170359
CREATED:20251103T131803Z
LAST-MODIFIED:20251218T160323Z
UID:1663-1769713200-1769713200@www.wein-kaese-marburg.de
SUMMARY:Wein und Käse Seminar - Ausverkauft
DESCRIPTION:Laurent Strub von unserem Affineur „Hennart“ aus Frankreich präsentiert und verköstigt\, gemeinsam mit Ihnen eine Auswahl an Käsespezialitäten. Dazu servieren wir Ihnen erlesene französische Weine.
URL:https://www.wein-kaese-marburg.de/veranstaltung/wein-und-kaese-seminar-2
LOCATION:Rotkehlchen in der Waggonhalle\, Rudolf-Bultmann-Straße 2A\, Marburg\, Hessen\, 35039\, Deutschland
ORGANIZER;CN="Robert Sabo":MAILTO:info@wein-kaese-marburg.de
END:VEVENT
BEGIN:VEVENT
DTSTART;TZID=Europe/Berlin:20251114T193000
DTEND;TZID=Europe/Berlin:20251114T230000
DTSTAMP:20260419T170359
CREATED:20250908T124032Z
LAST-MODIFIED:20251002T122244Z
UID:1638-1763148600-1763161200@www.wein-kaese-marburg.de
SUMMARY:Weinprobe\, Weine aus Italien (Ausverkauft)
DESCRIPTION:
URL:https://www.wein-kaese-marburg.de/veranstaltung/weinprobe-weine-aus-italien-9
LOCATION:Untergasse 3\, 35037 Marburg\, Untergasse 3\, Marburg\, Hessen\, 35037
END:VEVENT
BEGIN:VEVENT
DTSTART;TZID=Europe/Berlin:20251107T193000
DTEND;TZID=Europe/Berlin:20251107T230000
DTSTAMP:20260419T170359
CREATED:20250919T102747Z
LAST-MODIFIED:20251014T123022Z
UID:1640-1762543800-1762556400@www.wein-kaese-marburg.de
SUMMARY:Weinprobe\, Weine aus Spanien (Ausverkauft)
DESCRIPTION:
URL:https://www.wein-kaese-marburg.de/veranstaltung/weinprobe-weine-aus-spanien-9
LOCATION:Untergasse 3\, 35037 Marburg\, Untergasse 3\, Marburg\, Hessen\, 35037
END:VEVENT
BEGIN:VEVENT
DTSTART;TZID=Europe/Berlin:20251031T193000
DTEND;TZID=Europe/Berlin:20251031T230000
DTSTAMP:20260419T170359
CREATED:20250908T123927Z
LAST-MODIFIED:20250908T123927Z
UID:1636-1761939000-1761951600@www.wein-kaese-marburg.de
SUMMARY:Weinprobe\, Weine aus Frankreich
DESCRIPTION:
URL:https://www.wein-kaese-marburg.de/veranstaltung/weinprobe-weine-aus-frankreich-11
LOCATION:Untergasse 3\, 35037 Marburg\, Untergasse 3\, Marburg\, Hessen\, 35037
END:VEVENT
BEGIN:VEVENT
DTSTART;TZID=Europe/Berlin:20251023T190000
DTEND;TZID=Europe/Berlin:20251023T230000
DTSTAMP:20260419T170359
CREATED:20250626T163827Z
LAST-MODIFIED:20250930T100926Z
UID:1616-1761246000-1761260400@www.wein-kaese-marburg.de
SUMMARY:Weinprobe im Dunkeln\, BLISTA
DESCRIPTION:Riechen\, schmecken und genießen\nWeinprobe im Dunkeln am 23. Oktober auf dem blistaCampus \nAufgrund starker Nachfrage eröffnen wir eine weitere Veranstatung am 21.Oktober 2025\, hierbei wird es sich um französische Weine Handeln. \nAnmeldung gerne per Telefon\, Email oder bei uns im Laden \nAm Donnerstag\, dem 23. Oktober findet ab 19:00 Uhr auf dem blistaCampus ein ganz besonderes Geschmackserlebnis statt. \nDie Deutsche Blindenstudienanstalt e.V. (blista) veranstaltet zusammen mit „Wein und Käse“ eine Weinprobe in völliger Dunkelheit.\nWeinhändler Robert Sabo entführt die Teilnehmer*innen in die geschmackliche Vielfalt spanischer Weine. \nZu den Weinen werden kulinarische Kleinigkeiten wie Käse\, Antipasti und verschiedenste Schinken gereicht. \nAll das geschieht in einem völlig abgedunkelten Raum. Ein Team von blinden Kellner*innen wird sich während des Abends um die Gäste kümmern\, sodass es für alle ein unvergessliches Erlebnis wird. \nDie Weinprobe kostet pro Person 40 Euro. Die Tickets gibt es bei „Wein und Käse“\, Untergasse 3\,35037 Marburg. \nTreffpunkt ist der Infopunkt auf dem blistaCampus\, Am Schlag 4\, 35037 Marburg. \nVor dem ersten Tropfen Wein im Dunkeln wird es in einem hellen Vorraum eine kleine Einführung in den Abend inklusive eines Begrüßungssekts geben. \nDie Weinprobe findet als Kooperation der blista mit „Wein und Käse“ statt. Die blista möchte mit diesem Abend dazu beitragen\, neue Perspektiven zu entdecken und dabei – in entspannter Atmosphäre – für die Belange von Menschen mit Blindheit und Sehbehinderung sensibilisieren. Im Mittelpunkt der Veranstaltung steht natürlich der Genuss\, aber vielleicht auch ein paar interessante\, neue Erkenntnisse.
URL:https://www.wein-kaese-marburg.de/veranstaltung/weinprobe-im-dunkeln-blista
LOCATION:blistaCampus\, Am Schlag 2-12\, Marburg\, 35037\, Deutschland
END:VEVENT
BEGIN:VEVENT
DTSTART;TZID=Europe/Berlin:20251021T190000
DTEND;TZID=Europe/Berlin:20251021T190000
DTSTAMP:20260419T170359
CREATED:20251002T121956Z
LAST-MODIFIED:20251002T122133Z
UID:1645-1761073200-1761073200@www.wein-kaese-marburg.de
SUMMARY:Weinprobe im Dunkeln\, Weine aus Frankreich
DESCRIPTION:
URL:https://www.wein-kaese-marburg.de/veranstaltung/weinprobe-im-dunkeln-mit-franz-weinen
LOCATION:blistaCampus\, Am Schlag 2-12\, Marburg\, 35037\, Deutschland
END:VEVENT
BEGIN:VEVENT
DTSTART;TZID=Europe/Berlin:20250926T193000
DTEND;TZID=Europe/Berlin:20250926T193000
DTSTAMP:20260419T170359
CREATED:20250626T163259Z
LAST-MODIFIED:20250829T075829Z
UID:1614-1758915000-1758915000@www.wein-kaese-marburg.de
SUMMARY:Weinprobe\, Weine aus Frankreich (Ausverkauft)
DESCRIPTION:Ausverkauft
URL:https://www.wein-kaese-marburg.de/veranstaltung/weinprobe-weine-aus-frankreich-10
LOCATION:Untergasse 3\, 35037 Marburg\, Untergasse 3\, Marburg\, Hessen\, 35037
ORGANIZER;CN="Robert Sabo":MAILTO:info@wein-kaese-marburg.de
END:VEVENT
BEGIN:VEVENT
DTSTART;TZID=Europe/Berlin:20250920T140000
DTEND;TZID=Europe/Berlin:20250920T230000
DTSTAMP:20260419T170359
CREATED:20250626T163135Z
LAST-MODIFIED:20250626T163942Z
UID:1612-1758376800-1758409200@www.wein-kaese-marburg.de
SUMMARY:Weinboulevard am Lutherischen Pfarrhof
DESCRIPTION:
URL:https://www.wein-kaese-marburg.de/veranstaltung/weinfest
LOCATION:Lutherische Pfarrkirche Marburg\, Lutherischer Kirchhof 1\, Marburg\, Hessen\, 35037\, Deutschland
END:VEVENT
BEGIN:VEVENT
DTSTART;TZID=Europe/Berlin:20250906T130000
DTEND;TZID=Europe/Berlin:20250906T230000
DTSTAMP:20260419T170359
CREATED:20250626T162942Z
LAST-MODIFIED:20250626T162942Z
UID:1610-1757163600-1757199600@www.wein-kaese-marburg.de
SUMMARY:Höfefest Weidenhausen im Hof Schott
DESCRIPTION:
URL:https://www.wein-kaese-marburg.de/veranstaltung/hoefefest-weidenhausen-im-hof-schott
LOCATION:Hof Schott\, Auf dem Wehr\, 35039 Marburg
ORGANIZER;CN="Robert Sabo":MAILTO:info@wein-kaese-marburg.de
END:VEVENT
BEGIN:VEVENT
DTSTART;TZID=Europe/Berlin:20250829T193000
DTEND;TZID=Europe/Berlin:20250829T193000
DTSTAMP:20260419T170359
CREATED:20250626T162225Z
LAST-MODIFIED:20250626T162225Z
UID:1608-1756495800-1756495800@www.wein-kaese-marburg.de
SUMMARY:Weinprobe\, Weine aus Deutschland & Österreich
DESCRIPTION:
URL:https://www.wein-kaese-marburg.de/veranstaltung/weinprobe-weine-aus-deutschland-oesterreich-2
LOCATION:Untergasse 3\, 35037 Marburg\, Untergasse 3\, Marburg\, Hessen\, 35037
ORGANIZER;CN="Robert Sabo":MAILTO:info@wein-kaese-marburg.de
END:VEVENT
BEGIN:VEVENT
DTSTART;TZID=Europe/Berlin:20250815T193000
DTEND;TZID=Europe/Berlin:20250815T193000
DTSTAMP:20260419T170359
CREATED:20250605T121925Z
LAST-MODIFIED:20250710T121146Z
UID:1604-1755286200-1755286200@www.wein-kaese-marburg.de
SUMMARY:Weinprobe\, Weine aus Italien (Ausvekauft)
DESCRIPTION:
URL:https://www.wein-kaese-marburg.de/veranstaltung/weinprobe-weine-aus-italien-8
LOCATION:Untergasse 3\, 35037 Marburg\, Untergasse 3\, Marburg\, Hessen\, 35037
ORGANIZER;CN="Robert Sabo":MAILTO:info@wein-kaese-marburg.de
END:VEVENT
BEGIN:VEVENT
DTSTART;TZID=Europe/Berlin:20250808T193000
DTEND;TZID=Europe/Berlin:20250808T193000
DTSTAMP:20260419T170359
CREATED:20250710T121344Z
LAST-MODIFIED:20250728T130330Z
UID:1622-1754681400-1754681400@www.wein-kaese-marburg.de
SUMMARY:Weinprobe\, Weine aus Spanien (Ausverkauft)
DESCRIPTION:
URL:https://www.wein-kaese-marburg.de/veranstaltung/weinprobe-weine-aus-spanien-8
LOCATION:Untergasse 3\, 35037 Marburg\, Untergasse 3\, Marburg\, Hessen\, 35037
ORGANIZER;CN="Robert Sabo":MAILTO:info@wein-kaese-marburg.de
END:VEVENT
BEGIN:VEVENT
DTSTART;TZID=Europe/Berlin:20250704T193000
DTEND;TZID=Europe/Berlin:20250704T230000
DTSTAMP:20260419T170359
CREATED:20250419T114928Z
LAST-MODIFIED:20250419T114928Z
UID:1581-1751657400-1751670000@www.wein-kaese-marburg.de
SUMMARY:Weinprobe\, Weine aus Portugal
DESCRIPTION:
URL:https://www.wein-kaese-marburg.de/veranstaltung/weinprobe-weine-aus-portugal-5
LOCATION:Untergasse 3\, 35037 Marburg\, Untergasse 3\, Marburg\, Hessen\, 35037
END:VEVENT
BEGIN:VEVENT
DTSTART;TZID=Europe/Berlin:20250627T193000
DTEND;TZID=Europe/Berlin:20250627T230000
DTSTAMP:20260419T170359
CREATED:20250419T114704Z
LAST-MODIFIED:20250527T120143Z
UID:1578-1751052600-1751065200@www.wein-kaese-marburg.de
SUMMARY:Weinprobe\, Weine aus Spanien (Ausverkauft)
DESCRIPTION:
URL:https://www.wein-kaese-marburg.de/veranstaltung/weinprobe-weine-aus-spanien-7
LOCATION:Untergasse 3\, 35037 Marburg\, Untergasse 3\, Marburg\, Hessen\, 35037
END:VEVENT
BEGIN:VEVENT
DTSTART;TZID=Europe/Berlin:20250606T193000
DTEND;TZID=Europe/Berlin:20250606T230000
DTSTAMP:20260419T170359
CREATED:20250419T114553Z
LAST-MODIFIED:20250419T114553Z
UID:1576-1749238200-1749250800@www.wein-kaese-marburg.de
SUMMARY:Weinprobe\, Weine aus Frankreich
DESCRIPTION:
URL:https://www.wein-kaese-marburg.de/veranstaltung/weinprobe-weine-aus-frankreich-9
LOCATION:Untergasse 3\, 35037 Marburg\, Untergasse 3\, Marburg\, Hessen\, 35037
END:VEVENT
BEGIN:VEVENT
DTSTART;TZID=Europe/Berlin:20250523T193000
DTEND;TZID=Europe/Berlin:20250523T193000
DTSTAMP:20260419T170359
CREATED:20250320T170309Z
LAST-MODIFIED:20250320T170309Z
UID:1573-1748028600-1748028600@www.wein-kaese-marburg.de
SUMMARY:Weinprobe\, Weine aus Deutschland
DESCRIPTION:
URL:https://www.wein-kaese-marburg.de/veranstaltung/weinprobe-weine-aus-deutschland-2
LOCATION:Untergasse 3\, 35037 Marburg\, Untergasse 3\, Marburg\, Hessen\, 35037
ORGANIZER;CN="Robert Sabo":MAILTO:info@wein-kaese-marburg.de
END:VEVENT
BEGIN:VEVENT
DTSTART;TZID=Europe/Berlin:20250516T193000
DTEND;TZID=Europe/Berlin:20250516T193000
DTSTAMP:20260419T170359
CREATED:20250320T165743Z
LAST-MODIFIED:20250320T170005Z
UID:1571-1747423800-1747423800@www.wein-kaese-marburg.de
SUMMARY:Weinprobe\, Weine aus Österreich
DESCRIPTION:
URL:https://www.wein-kaese-marburg.de/veranstaltung/weinprobe-weine-aus-oesterreich
LOCATION:Untergasse 3\, 35037 Marburg\, Untergasse 3\, Marburg\, Hessen\, 35037
ORGANIZER;CN="Robert Sabo":MAILTO:info@wein-kaese-marburg.de
END:VEVENT
BEGIN:VEVENT
DTSTART;TZID=Europe/Berlin:20250502T193000
DTEND;TZID=Europe/Berlin:20250502T193000
DTSTAMP:20260419T170359
CREATED:20250128T133525Z
LAST-MODIFIED:20250304T131443Z
UID:1553-1746214200-1746214200@www.wein-kaese-marburg.de
SUMMARY:Weinprobe\, Weine aus Italien (Ausverkauft)
DESCRIPTION:Ausverkauft
URL:https://www.wein-kaese-marburg.de/veranstaltung/weinprobe-weine-aus-italien-7
LOCATION:Untergasse 3\, 35037 Marburg\, Untergasse 3\, Marburg\, Hessen\, 35037
END:VEVENT
BEGIN:VEVENT
DTSTART;TZID=Europe/Berlin:20250411T193000
DTEND;TZID=Europe/Berlin:20250411T193000
DTSTAMP:20260419T170359
CREATED:20250227T133511Z
LAST-MODIFIED:20250227T133511Z
UID:1566-1744399800-1744399800@www.wein-kaese-marburg.de
SUMMARY:Weinprobe\, Weine aus Spanien
DESCRIPTION:
URL:https://www.wein-kaese-marburg.de/veranstaltung/weinprobe-weine-aus-spanien-6
LOCATION:Untergasse 3\, 35037 Marburg\, Untergasse 3\, Marburg\, Hessen\, 35037
ORGANIZER;CN="Robert Sabo":MAILTO:info@wein-kaese-marburg.de
END:VEVENT
BEGIN:VEVENT
DTSTART;TZID=Europe/Berlin:20250329T190000
DTEND;TZID=Europe/Berlin:20250329T190000
DTSTAMP:20260419T170359
CREATED:20250203T152842Z
LAST-MODIFIED:20250203T154040Z
UID:1557-1743274800-1743274800@www.wein-kaese-marburg.de
SUMMARY:Frühjahrsmenü mit Bioweingut Pratsch
DESCRIPTION:Frühjahrsmenü mit Bioweingut Pratsch\n \nErleben Sie den Frühling mit einem exklusiven Menü\, das die Aromen der Saison mit acht edlen Weinen des Bioweinguts Pratsch aus Niederösterreich perfekt kombiniert. Lassen Sie sich von einem kulinarischen Genuss inmitten frischer\, regionaler Zutaten verwöhnen\, begleitet von ausgewählten\, teilweise mit Gold prämierten Weinen\, die das Geschmackserlebnis vollenden. \nDas Menü: \nVorspeisen: \nPetersilienwurzelsuppe mit Nussbutter und Parmesanchip.\nKäsevariation vom Brett.\nFeldsalat mit Apfelvinaigrette\, gelber Beete\, Rettich\, Feta und Kürbiskernen.\n\nHauptgang: \nVegetarisch: Nussbraten im Blätterteig mit Romanesco und Serviettenknödel.\n(Bitte vorher ankündigen)\nSchweinefilet im Blätterteig mit Gemüse-Pilzfüllung\, Romanesco und Serviettenknödel.\n\nDessert: \nMohnschupfnudeln auf Heidelbeerkompott.\nJeder Gang wird von einem sorgfältig ausgewählten Biowein des Weinguts Pratsch aus Niederösterreich begleitet. Lassen Sie sich von den meisterhaft abgestimmten Aromen überraschen und genießen Sie eine unvergessliche Frühjahrsreise für die Sinne! \nWir freuen uns\, Sie zu diesem außergewöhnlichen Genusserlebnis begrüßen zu dürfen.
URL:https://www.wein-kaese-marburg.de/veranstaltung/fruehjahrsmenue-mit-bioweingut-pratsch
LOCATION:Rotkehlchen in der Waggonhalle\, Rudolf-Bultmann-Straße 2A\, Marburg\, Hessen\, 35039\, Deutschland
ORGANIZER;CN="Robert Sabo":MAILTO:info@wein-kaese-marburg.de
END:VEVENT
BEGIN:VEVENT
DTSTART;TZID=Europe/Berlin:20250321T193000
DTEND;TZID=Europe/Berlin:20250321T233000
DTSTAMP:20260419T170359
CREATED:20250117T113015Z
LAST-MODIFIED:20250121T135943Z
UID:1548-1742585400-1742599800@www.wein-kaese-marburg.de
SUMMARY:Weinprobe\, Weine aus Frankreich (Ausverkauft)
DESCRIPTION:Ausverkauft
URL:https://www.wein-kaese-marburg.de/veranstaltung/weinprobe-weine-aus-frankreich-8
LOCATION:Untergasse 3\, 35037 Marburg\, Untergasse 3\, Marburg\, Hessen\, 35037
ORGANIZER;CN="Robert Sabo":MAILTO:info@wein-kaese-marburg.de
END:VEVENT
BEGIN:VEVENT
DTSTART;TZID=Europe/Berlin:20250314T193000
DTEND;TZID=Europe/Berlin:20250314T193000
DTSTAMP:20260419T170359
CREATED:20250107T122111Z
LAST-MODIFIED:20250114T090422Z
UID:1538-1741980600-1741980600@www.wein-kaese-marburg.de
SUMMARY:Weinprobe\, Weine aus Frankreich (Ausverkauft)
DESCRIPTION:Ausverkauft
URL:https://www.wein-kaese-marburg.de/veranstaltung/weinprobe-weine-aus-frankreich-7
LOCATION:Untergasse 3\, 35037 Marburg\, Untergasse 3\, Marburg\, Hessen\, 35037
END:VEVENT
BEGIN:VEVENT
DTSTART;TZID=Europe/Berlin:20250228T193000
DTEND;TZID=Europe/Berlin:20250228T193000
DTSTAMP:20260419T170359
CREATED:20250107T121828Z
LAST-MODIFIED:20250211T092555Z
UID:1535-1740771000-1740771000@www.wein-kaese-marburg.de
SUMMARY:Weinprobe\, Weine aus Italien (Ausverkauft)
DESCRIPTION:
URL:https://www.wein-kaese-marburg.de/veranstaltung/weinprobe-weine-aus-italien-6
LOCATION:Untergasse 3\, 35037 Marburg\, Untergasse 3\, Marburg\, Hessen\, 35037
END:VEVENT
BEGIN:VEVENT
DTSTART;TZID=Europe/Berlin:20250221T193000
DTEND;TZID=Europe/Berlin:20250221T193000
DTSTAMP:20260419T170359
CREATED:20250107T122917Z
LAST-MODIFIED:20250114T090507Z
UID:1542-1740166200-1740166200@www.wein-kaese-marburg.de
SUMMARY:Schaumweinprobe\, Schaumweine aus versch. Ländern (Ausverkauft)
DESCRIPTION:Ausverkauft
URL:https://www.wein-kaese-marburg.de/veranstaltung/schaumweinprobe-schaumweine-aus-versch-laendern
LOCATION:Untergasse 3\, 35037 Marburg\, Untergasse 3\, Marburg\, Hessen\, 35037
END:VEVENT
END:VCALENDAR